BEGIN:VCALENDAR
VERSION:2.0
PRODID:-//wp-events-plugin.com//7.2.3.1//EN
TZID:Europe/Vienna
X-WR-TIMEZONE:Europe/Vienna
BEGIN:VEVENT
UID:138@antirassismustage.at
DTSTART:20260224T123000Z
DTEND:20260224T163000Z
DTSTAMP:20260223T171943Z
URL:https://antirassismustage.at/events/zine-workshop-zum-thema-anti-rassi
 smus/
SUMMARY:Zine-Workshop zum Thema Anti-Rassismus - Eine Veranstaltung des Ant
 irassismus Netzwerk Salzburg
DESCRIPTION:Eine Veranstaltung des Antirassismus Netzwerk Salzburg.\nLeitun
 g des Workshops: Maria Bürger\, Afro-Asiatisches Institut Salzburg\nDer W
 orkshop beginnt mit einer Führung durch das Zine-Archiv im Gendup Salzbur
 g durch Elke Zobl.\nIn dem Workshop setzen sich die Teilnehmenden mit folg
 enden Fragen auseinander:\nWenn wir über Rassismus sprechen\, was sollte 
 jeder Person bewusst werden? Welche gesellschaftlichen Entwicklungen sind 
 aktuell in Hinblick auf Rassismus und Antirassismus zu beobach­ten? Was s
 ind die effektivsten Antirassismus-Strategien? Welche Erfahrung hat dir be
 sonders die Augen geöffnet?\n\nAusgehend von diesen Fragen werden aus ver
 schiedenen Materialien Zines erstellt.\n&nbsp\;\n
ATTACH;FMTTYPE=image/jpeg:https://antirassismustage.at/wp-content/uploads/
 2026/02/ZINE-Slzburg.jpg
CATEGORIES:Workshop
LOCATION:gendup - Zentrum f Frauen- u Geschlechterforschung\, Kaigasse 17\,
  Salzburg\, Salzburg\, 5020\, Österreich
GEO:47.797593;13.049173
X-APPLE-STRUCTURED-LOCATION;VALUE=URI;X-ADDRESS=Kaigasse 17\, Salzburg\, Sa
 lzburg\, 5020\, Österreich;X-APPLE-RADIUS=100;X-TITLE=gendup - Zentrum f 
 Frauen- u Geschlechterforschung:geo:47.797593,13.049173
END:VEVENT
END:VCALENDAR