BEGIN:VCALENDAR
VERSION:2.0
PRODID:-//wp-events-plugin.com//7.2.3.1//EN
TZID:Europe/Vienna
X-WR-TIMEZONE:Europe/Vienna
BEGIN:VEVENT
UID:156@antirassismustage.at
DTSTART:20260413T090000Z
DTEND:20260413T100000Z
DTSTAMP:20260407T170924Z
URL:https://antirassismustage.at/events/zara-pressekonferenz-rassismus-rep
 ort-2025/
SUMMARY:ZARA Pressekonferenz - Rassismus Report 2025 - Schwerpunkt:  Rassis
 mus im Bildungswesen
DESCRIPTION:ZARA veröffentlicht jährlich den Rassismus Report\, eine Anal
 yse zu rassistischen Übergriffen und Strukturen in Österreich\, ebenso w
 ie den #GegenHassimNetz-Bericht (abrufbar unter: https://zara.or.at/wissen
 /#reports ).\nHeute wird ZARA den Rassismus Report 2025 vorstellen.\nDer V
 erein ZARA wurde 1999 mit dem Ziel gegründet\, eine rassismuskritische Ge
 sellschaft und einen respektvollen Umgang miteinander sowohl online als au
 ch offline zu fördern.
ATTACH;FMTTYPE=image/jpeg:https://antirassismustage.at/wp-content/uploads/
 2026/02/IMG_7489.jpg
CATEGORIES:Pressekonferenz
LOCATION:https://www.zara.or.at
END:VEVENT
END:VCALENDAR