BEGIN:VCALENDAR
VERSION:2.0
PRODID:-//wp-events-plugin.com//7.2.3.1//EN
TZID:Europe/Vienna
X-WR-TIMEZONE:Europe/Vienna
BEGIN:VEVENT
UID:137@antirassismustage.at
DTSTART:20260323T073000Z
DTEND:20260323T120000Z
DTSTAMP:20260324T065054Z
URL:https://antirassismustage.at/events/wien_gegen_rassismus_2026/
SUMMARY:"Wien gegen Rassismus: Ein Aktionsplan für eine rassismuskritische
  Politik und Verwaltung"
DESCRIPTION:Zum Internationalen Tag gegen Rassismus veranstaltet die Abteil
 ung Integration und Diversität eine Fachtagung
ATTACH;FMTTYPE=image/jpeg:https://antirassismustage.at/wp-content/uploads/
 2025/02/MA17_SW_Logo_DE_POS_CMYK_DRUCK2-scaled.jpg
CATEGORIES:Tagung
LOCATION:Wiener Rathaus\, Lichtenfelsgasse  2\, Wien\, Wien\, 1010\, Öst
 erreich
GEO:48.210321;16.357047
X-APPLE-STRUCTURED-LOCATION;VALUE=URI;X-ADDRESS=Lichtenfelsgasse  2\, Wie
 n\, Wien\, 1010\, Österreich;X-APPLE-RADIUS=100;X-TITLE=Wiener Rathaus:ge
 o:48.210321,16.357047
END:VEVENT
END:VCALENDAR