BEGIN:VCALENDAR
VERSION:2.0
PRODID:-//wp-events-plugin.com//7.2.3.1//EN
TZID:Europe/Vienna
X-WR-TIMEZONE:Europe/Vienna
BEGIN:VEVENT
UID:214@antirassismustage.at
DTSTART:20260325T180000Z
DTEND:20260325T194500Z
DTSTAMP:20260322T045253Z
URL:https://antirassismustage.at/events/west-asian-film-festival-vienna/
SUMMARY:WAFF - West Asian Film Festival Vienna
DESCRIPTION:West Asian Film Festival Vienna presents contemporary cinema fr
 om West Asia and neighboring cultural regions. The festival creates a spac
 e for films that engage with the social\, political\, and aesthetic questi
 ons emerging from a culturally diverse region often reduced to simplified 
 narratives.\nFeaturing works from Afghanistan\, Iraq\, Iran\, Syria\, Leba
 non\, Gaza\, Rojava\, and Rojhelat\, the program spans documentary\, exper
 imental\, and poetic storytelling. Alongside screenings\, artist talks\, l
 ectures\, workshops\, and community encounters create a space for dialogue
 \, reflection\, and exchange between filmmakers and audiences.\nFilm Openi
 ng\nWednesday\, March 25\, 2026 | 7:00 pm–8:45 pm | METRO Kino\, Histori
 c Hall\nDirector: Mohammadreza Eyni and Sara Khaki. Countries: Iran\, Qata
 r\, Chile\, Canada\, Netherlands\, Germany\, United States. Released: 2025
 . Length: 95 min. Format: DCP. Language: Azerbaijani\, Turkish\, Persian\,
  English with English subtitles.\n\n	Buy your tickets online on the homepa
 ge of Metrokino\n\nDownload the entire programme here (pdf)
ATTACH;FMTTYPE=image/jpeg:https://antirassismustage.at/wp-content/uploads/
 2026/03/Bildschirmfoto-2026-03-22-um-05.27.54.png
CATEGORIES:Filmfestival
LOCATION:Metro Kinokulturhaus\, Johannesgasse 4\, Wien\, Wien\, 1010\, Öst
 erreich
GEO:48.204788;16.371692
X-APPLE-STRUCTURED-LOCATION;VALUE=URI;X-ADDRESS=Johannesgasse 4\, Wien\, Wi
 en\, 1010\, Österreich;X-APPLE-RADIUS=100;X-TITLE=Metro Kinokulturhaus:ge
 o:48.204788,16.371692
END:VEVENT
END:VCALENDAR