BEGIN:VCALENDAR
VERSION:2.0
PRODID:-//wp-events-plugin.com//7.2.3.1//EN
TZID:Europe/Vienna
X-WR-TIMEZONE:Europe/Vienna
BEGIN:VEVENT
UID:141@antirassismustage.at
DTSTART:20260310T173000Z
DTEND:20260310T193000Z
DTSTAMP:20260219T112713Z
URL:https://antirassismustage.at/events/verfolgung-und-widerstand-von-fuer
 sorgerinnen-in-wien-1934-1945-pionierinnen-und-grenzgaengerinnen-der-sozia
 len-arbeit/
SUMMARY:Verfolgung und Widerstand von Fürsorgerinnen in Wien 1934–1945 /
  Pionierinnen und Grenzgängerinnen der Sozialen Arbeit
DESCRIPTION:ORT: Fachbibliothek Zeitgeschichte\, Campus der Universität Wi
 en\, Spitalgasse 2-4\, Hof 1.12\, 1090 Wien\nProgramm:\n\n	Begrüßung\nMa
 rkus Stumpf | Fachbibliothek Zeitgeschichte\, Universität Wien\n	Einleite
 nde Worte\nJohanna Gehmacher | Institut für Zeitgeschichte\, Universität
  Wien\n	Buchpräsentation\nIrene Messinger | Department Sozialwissenschaft
 en\, Hochschule Campus Wien\n	Podiumsdiskussion\nÜber Biografieforschung 
 und die Praktiken des Biografierens\nIrene Messinger | Department Sozialwi
 ssenschaften\, Hochschule Campus Wien\nJohanna Gehmacher | Institut für Z
 eitgeschichte\, Universität Wien\nJessica Richter | Institut für Wirtsch
 afts- und Sozialgeschichte\, Universität Wien\n	Programm als pdf\n\nIm An
 schluss Brot und Wein\n- - -&nbsp\;\nZu den Büchern:\nVerfolgung und Wide
 rstand von Fürsorgerinnen in Wien 1934-1945.\nKollektivbiografische Studi
 e zur Geschichte Sozialer Arbeit.\nVerfolgung und Vernichtung unter autori
 tären Regimen prägten die frühe Entwicklung der Profession. Anhand von 
 80 Biografien analysiert die Studie berufliche Netzwerke\, Wissenstransfer
  ins Exil und Formen des Widerstands\, und erweitert die Geschichtsschreib
 ung um marginalisierte Perspektiven.\n\n	Irene Messinger. Verfolgung und W
 iderstand von Fürsorgerinnen in Wien 1934-1945. Nomos Verlag. Wien\, 2026
 .\n\nPionierinnen und Grenzgängerinnen der Sozialen Arbeit. 80 Biografien
  von verfolgten Fürsorgerinnen in Wien 1934–1945.\nDie Porträts erzäh
 len von Herkunft\, Ausbildung\, Arbeitsfeldern und beruflichen Netzwerken.
  Gestützt auf neue Quellen und Bilder dokumentieren sie Erfahrungen von V
 erfolgung\, Anpassung\, Widerstand und Flucht. Sie machen weitgehend verge
 ssene Akteurinnen jenseits gängiger Berufsvorstellungen sichtbar. Dieser 
 Band enthält über 180 Bilder.\n\n	Irene Messinger. Pionierinnen und Gren
 zgängerinnen der Sozialen Arbeit. Nomos Verlag. Wien\, 2026.\n\nZur Autor
 in:\nIrene Messinger ist Professorin für Soziale Arbeit an der Hochschule
  Campus Wien. Die promovierte Politikwissenschaftlerin habilitierte sich m
 it diesem Thema am Institut für Zeitgeschichte der Universität Wien. Das
  Manuskript wurde 2023 mit dem Herbert Steiner Anerkennungspreis des DÖW 
 und der ITH und dem Research Award 2025 der EASSW (European Association of
  Schools of Social Work) ausgezeichnet.\n\nKooperationspartner:\nFachbibli
 othek Zeitgeschichte\, Universitätsbibliothek Wien\nInstitut für Zeitges
 chichte\, Universität Wien\nHochschule Campus Wien\, Studiengang Soziale 
 Arbeit\nZukunftsfonds der Republik Österreich\nNationalfonds der Republik
  Österreich für Opfer des Nationalsozialismus\nStadt Wien Kultur (MA 7)
ATTACH;FMTTYPE=image/jpeg:https://antirassismustage.at/wp-content/uploads/
 2026/02/image01.jpeg
CATEGORIES:Buchpräsentation
LOCATION:Fachbibliothek Zeitgeschichte\, Spitalgasse 2-4\, Wien\, 1090\, Ö
 sterreich
GEO:48.216847;16.355123
X-APPLE-STRUCTURED-LOCATION;VALUE=URI;X-ADDRESS=Spitalgasse 2-4\, Wien\, 10
 90\, Österreich;X-APPLE-RADIUS=100;X-TITLE=Fachbibliothek Zeitgeschichte:
 geo:48.216847,16.355123
END:VEVENT
END:VCALENDAR