BEGIN:VCALENDAR
VERSION:2.0
PRODID:-//wp-events-plugin.com//7.2.3.1//EN
TZID:Europe/Vienna
X-WR-TIMEZONE:Europe/Vienna
BEGIN:VEVENT
UID:162@antirassismustage.at
DTSTART:20260518T120000Z
DTEND:20260518T153000Z
DTSTAMP:20260301T091314Z
URL:https://antirassismustage.at/events/unesco-tag-kph_wien-noe/
SUMMARY:UNESCO TAG - Worte öffnen Türen. Mehrsprachigkeit als Schlüssel 
 der Teilhabe
DESCRIPTION:Im Rahmen der UNESCO-Zertifizierung der KPH Wien/NÖ findet am 
 Montag\, dem 18. Mai 2026\, von 13:00 bis 16:30 Uhr der diesjährige UNESC
 O-Tag zum Thema „Worte öffnen Türen - Mehrsprachigkeit als Schlüssel 
 zur Teilhabe“ statt.&nbsp\;\nIn ihrer Keynote wird Nadja Thuma von der U
 niversität Innsbruck das Thema „Mehrsprachigkeit und die verborgenen Re
 geln schulischer Teilhabe“ beleuchten. Darüber hinaus sind elf praxisor
 ientierte Workshops zu folgenden Themenschwerpunkten geplant:\n\n	Frühe s
 prachliche Förderung\n	Sensibilisierung und Impulse für Mehrsprachigkeit
  und Sprachengerechtigkeit\n	Vorstellung und Erprobung praxisorientierter 
 Tools zur Sprachförderung\n	Wahrnehmung von Sprache als wichtiges Werkzeu
 g für Verständigung\, Beziehungsgestaltung und friedliches Miteinander\n
 	Kritische Einbindung von Large Language Models (LLMs) in die Hochschulleh
 re\n	Impulse zur Elternarbeit in der mehrsprachigen Gesellschaft\n	Weiterb
 ildungsangebote zur Sprachförderung und Mehrsprachigkeit etc.\n\nErste In
 formationen zum Programm finden Sie auf den Task-Cards&nbsp\;\nDer UNESCO-
 Tag richtet sich primär an alle Lehrenden und Studierenden der Hochschule
  sowie an alle Interessierten zum Thema.\nWir freuen uns auf Ihre Teilnahm
 e!\nEure/Ihre Anmeldung bitte bis spätestens 12.05.2026 unter gabriele.ho
 esch-schagar(at)kphvie.ac.at&nbsp\;
ATTACH;FMTTYPE=image/jpeg:https://antirassismustage.at/wp-content/uploads/
 2026/03/a6-Safe_the_date_UNESCO_Tag_2026.png
CATEGORIES:Tagung
LOCATION:Kirchliche Pädagogische Hochschule Wien/Niederösterreich\, Mayer
 weckstraße 1\, Wien\, Wien\, 1210\, Österreich
GEO:48.295302;16.380413
X-APPLE-STRUCTURED-LOCATION;VALUE=URI;X-ADDRESS=Mayerweckstraße 1\, Wien\,
  Wien\, 1210\, Österreich;X-APPLE-RADIUS=100;X-TITLE=Kirchliche Pädagogi
 sche Hochschule Wien/Niederösterreich:geo:48.295302,16.380413
END:VEVENT
END:VCALENDAR