BEGIN:VCALENDAR
VERSION:2.0
PRODID:-//wp-events-plugin.com//7.2.3.1//EN
TZID:Europe/Vienna
X-WR-TIMEZONE:Europe/Vienna
BEGIN:VEVENT
UID:172@antirassismustage.at
DTSTART:20260312T090000Z
DTEND:20260312T110000Z
DTSTAMP:20260304T104123Z
URL:https://antirassismustage.at/events/treffen_am_runden_tisch_oberwart/
SUMMARY:Berufliche Zukunft junger Menschen zwischen Wunsch und Wirklichkeit
DESCRIPTION:Berufliche Zukunft junger Menschen zwischen Wunsch und Wirklich
 keit: Welche Erwartungen haben junge Men­schen an ihre beruf­liche Zukun
 ft und wie las­sen sich diese mit der Re­ali­tät der Arbeits­welt in 
 Ein­klang bringen? Immer mehr Jugend­liche stehen vor vielen Hürden bei
 m Einstieg in die Arbeits­welt. Fehlende Per­spekti­ven können den wei
 teren Lebens­weg stark be­ein­flussen. Des­wegen braucht es starke Net
 z­werke\, gezielte An­gebote und enga­gierte Part­ner:innen\, die Juge
 nd­liche dabei unter­stützen\, gestärkt in den Arbeits­markt zu start
 en. Dies und weiteres wird beim „Runden Tisch“ am Podium dis­kutiert.
 \nDie Podiumsgäste:\n\n	Gabi Tremmel-Yakali (Leiterin der Abt. Interessen
 ­politik der AK Burgenland\, Arbeits­markt­ex­pertin\, Mit­glied im A
 MS-Lan­des­di­rek­torium)\n	Christine Teuschler (Vorsitzende der Burge
 n­ländischen Volks­hoch­schulen)\n	Marie-Theres Pauss (Arbeitsmarktser
 vice Oberwart)\n	Johann Pimperl (Ausbilder im Lehrberuf Metalltechnik/ Mas
 chinen­bau­technik im Lehr­betrieb Jugend am Werk Rotenturm)\n	Lisa-Mar
 ie Horvath (Trainerin im Projekt O DROM ANDI CUKUNFT – An­lauf­stelle 
 für Arbeits­markt- und Sozialbera­tung\, Ober­wart)\n\nModeration: Ado
 lf Gussak jun.\nAnmeldung &amp\; Information:\nalina.vozenilek@trendwerk.a
 t /&nbsp\;lisa-marie.horvath@trendwerk.at\nDas Projekt O DROM ANDI CUKUNFT
  von Trendwerk Burgenland in Oberwart (Schulgasse 2\, 7400 Oberwart) biete
 t ein nieder­schwel­liges Beratungs- und Quali­fizie­rungs­angebot f
 ür arbeits­markt­ferne Roma und Romnja. Es sollen Be­schäf­tigungs­
 hemm­nisse abgebaut\, das Selbst­wert­gefühl gestärkt\, Lösungs­kom
 ­petenz aktiviert\, Basis­bildung ver­bessert und somit der Weg von der
  Arbeits­losig­keit auf den Arbeitsmarkt ge­ebnet werden. Mit den regel
 ­mäßig statt­finden­den „Treffen am Runden Tisch“ soll eine Brüc
 ke zwischen ver­schiedenen Institu­tionen\, Organi­satio­nen\, Unter­
 nehmen\, NGOs\, Bildungs­ein­richtun­gen\, Schulen\, Beratungsvstellen\
 , Medien und der Roma-Com­munity ge­schaffen werden. Diese Maß­nahme w
 ird aus Mitteln des Bundes­ministe­riums für Arbeit und Wirtschaft ge­
 fördert sowie in Ko­opera­tion mit dem Arbeits­markt­service Burgenla
 nd durch­geführt.\n(Text: Pressemitteilung\, O Drom andi Cukunft)
ATTACH;FMTTYPE=image/jpeg:https://antirassismustage.at/wp-content/uploads/
 2026/03/Runder-Tisch-2025-Quelle-Susanne-Horvath.jpg
CATEGORIES:Podiumsdiskussion
LOCATION:OFFENES HAUS OBERWART\, Lisztgasse 12 \, Oberwart\, Burgenland\, 7
 400\, Österreich
GEO:47.290699;16.210819
X-APPLE-STRUCTURED-LOCATION;VALUE=URI;X-ADDRESS=Lisztgasse 12 \, Oberwart\,
  Burgenland\, 7400\, Österreich;X-APPLE-RADIUS=100;X-TITLE=OFFENES HAUS O
 BERWART:geo:47.290699,16.210819
END:VEVENT
END:VCALENDAR