BEGIN:VCALENDAR
VERSION:2.0
PRODID:-//wp-events-plugin.com//7.2.3.1//EN
TZID:Europe/Vienna
X-WR-TIMEZONE:Europe/Vienna
BEGIN:VEVENT
UID:174@antirassismustage.at
DTSTART:20260319T181500Z
DTEND:20260319T194500Z
DTSTAMP:20260304T114901Z
URL:https://antirassismustage.at/events/sound-in-the-city-graz/
SUMMARY:Sound in the City: Josefitag International
DESCRIPTION:Jeder ist willkommen\, auch ohne Vorkenntnisse oder Instrumente
 nbeherrschung. Gemeinsam wird unter professioneller Anleitung musiziert/ge
 sungen/zugehört und sich zwanglos ausgetauscht. Wenn vorhanden können ge
 rne Instrumente mitgenommen werden.\nWorkshopleiter: Michael Reiter (Volks
 liedwerk\, Musik beim Wirt) und Allround-Musiker Juan Carlos Sungurlian Ba
 rsumian\nWANN:\nDO\, 19.3.2026\, 19:15 Uhr\, Pfarrsaal St. Andrä | St. An
 dräplatz 1| 8020 Graz\nDO\, 11.06.2026 und 15.06.2026\, 19:00\,&nbsp\;And
 rä Foyer – Umschlagplatz für Gutes | Dreihackengasse 1 | 8020 Graz\nDO
 \, 17.12.2026\, 19:00 Uhr: Café Global | Leechgasse 24 | 8010 Graz\nKeine
  Voranmeldung notwendig\, Eintritt frei\nVeranstaltet vom Steirischen Volk
 sliedwerk in Kooperation mit dem Afro-Asiatischen Institut Graz. Geförder
 t durch das Kulturamt der Stadt Graz und aus Innovationsmitteln der Diöze
 se Graz-Seckau.
ATTACH;FMTTYPE=image/jpeg:https://antirassismustage.at/wp-content/uploads/
 2026/03/Sound_in_the_City.jpg
CATEGORIES:Workshop
LOCATION:Pfarrsaal St. Andrä\, St. Andräplatz 1\, Graz\, Steiermark\, 802
 0\, Österreich
GEO:47.069667;15.429434
X-APPLE-STRUCTURED-LOCATION;VALUE=URI;X-ADDRESS=St. Andräplatz 1\, Graz\, 
 Steiermark\, 8020\, Österreich;X-APPLE-RADIUS=100;X-TITLE=Pfarrsaal St. A
 ndrä:geo:47.069667,15.429434
END:VEVENT
END:VCALENDAR