BEGIN:VCALENDAR
VERSION:2.0
PRODID:-//wp-events-plugin.com//7.2.3.1//EN
TZID:Europe/Vienna
X-WR-TIMEZONE:Europe/Vienna
BEGIN:VEVENT
UID:122@antirassismustage.at
DTSTART:20250321T070000Z
DTEND:20250321T180000Z
DTSTAMP:20250323T170307Z
URL:https://antirassismustage.at/events/salzburg-internationaler-tag-gegen
 -rassismus-programmschwerpunkt-von-radiofabrik/
SUMMARY:Salzburg: Internationaler Tag gegen Rassismus: Programmschwerpunkt 
 von Radiofabrik
DESCRIPTION:1966 erklärten die Vereinten Nationen den 21. März zum Intern
 ationalen Tag gegen Rassismus. Wir nehmen das zum Anlass\, um an diesem Ta
 g ein paar Sendungen (teils neuproduziert und aus dem Archiv) zu spielen\,
  die sich mit Themen wie Antidiskriminierung\, Rassismus\,… auseinanders
 etzen.\nHört rein!\nFolgendes steht auf dem Programm:\n\n	8:00 Kija on Ai
 r – Antidiskriminierung\nMickey und Franzi sprechen mit Barbara Sieberth
  von der Antidiskriminierungsstelle Salzburg über Diskriminierung in Salz
 burg und Österreich.\n\n\n	9:00 Richtig &amp\; Falsch – Alltagsrassismu
 s erkennen und diskutieren\nWie kann politisches und rassismuskritisches L
 ernen heute aussehen? Was tun bei rassistischen Zwischenfällen im Klassen
 zimmer? Und vor allem\, wo liegen die eigenen blinden Flecken\, was verste
 ckten Alltagsrassismus betrifft? Über diese Fragen spricht Ambra Schuster
  mit ihren Gäst:innen:\nHeline Ahmad (Asylkoordination Österreich)\nÖzg
 ür Atagan (Teach For Austria Fellow und Lehrer einer Neuen Mittelschule i
 m 11. Wiener Gemeindebezirk)\nKristiane Meister (Volksschullehrerin im 16.
  Wiener Gemeindebezirk)\nStefan Schmid-Heher (Pädagogische Hochschule Wie
 n)\n	\n\n	10:06 Frozine – Von der zweiten Antirassismusmesse Österreich
 \nFrozine war am 14. März bei der Antirassismusmesse in Wien\, dem Auftak
 t zu den Antirassismustagen in Österreich.\nDiese finden noch bis zum 23.
 3. statt. Bei der Messe gab es Podiumsdiskussionen\, Vorträge und untersc
 hiedliche Institutionen\, wie Zara\, D!SRUPT etc. … stellten ihre Arbeit
  vor.\n\n\n	16:00 Schlüsselmomente – Bunt gegen Rassismus\nAllison erz
 ählt von ihren persönlichen Erfahrungen mit Rassismus. Auch heute werden
  immer noch Menschen ausgegrenzt\, schlecht behandelt und benachteiligt\, 
 weil sie „anders“ aussehen.\nVorschlag: Lasst uns alle gemeinsam für 
 ein sonniges Morgen arbeiten.\n\n\n	17:00 Schallverkostung – Gegen das V
 ergessen\nJonas spannt in dieser ernsteren Folge den Bogen vom Faschismus 
 der Vergangenheit hin zu Rassismus in der Gegenwart\, rassistisch motivier
 ten Gewalttaten und Protestbewegungen im musikkulturellen Bereich.\n\n\n	1
 9:06 Menschen in Aktion – Fluchterfahrungen – Texte aus der Schreibwer
 kstätte von Vladimir Vertlib\nIm Rahmen der kreativen Schreibwerkstätte 
 von Vladimir Vertlib konnten Flüchtlinge ihre Fluchterfahrungen aufarbeit
 en und schriftlich festhalten.\nIm Studio zu Gast ist Mohammad Sadeqi\, de
 r uns von seinen Erfahrungen erzählt.\n\nGrafik: &nbsp\;„dIMG_8246″vo
 n Paul Becker (Becker1999 auf flickr) (CC by 2.0\, Bearbeitung durch Radio
 fabrik)\n&nbsp\;\n\n
ATTACH;FMTTYPE=image/jpeg:https://antirassismustage.at/wp-content/uploads/
 2025/03/antirassismustag_25.jpg
CATEGORIES:Radiosendung
LOCATION:https://radiofabrik.at/news/internationaler-tag-gegen-rassismus-pr
 ogrammschwerpunkt/
END:VEVENT
END:VCALENDAR