BEGIN:VCALENDAR
VERSION:2.0
PRODID:-//wp-events-plugin.com//7.2.3.1//EN
TZID:Europe/Vienna
X-WR-TIMEZONE:Europe/Vienna
BEGIN:VEVENT
UID:118@antirassismustage.at
DTSTART:20250515T190000Z
DTEND:20250515T203000Z
DTSTAMP:20250319T153839Z
URL:https://antirassismustage.at/events/salzburg-afrika-filmtage-2025-omen
 /
SUMMARY:Salzburg: Afrika Filmtage 2025 - Banel & Adama
DESCRIPTION:Das Afro-Asiatische Institut in Salzburg und afrika.info haben 
 die Afrika-Filmtage in Salzburg initiiert\, um dem modernen afrikanischen 
 Kino eine Bühne zu bieten. Mit diesen Filmtagen wurde an jene Ambitionen 
 angeknüpft\, Afrika-Filmtage in der Mozartstadt\, bereits in den 1980er-J
 ahren zu etablieren.\n-\n\n	Film: Banel &amp\; Adama\n	https://afrikafilmt
 age.at/banel-adama/\n\nSenegal\, Mali\, Frankreich 2023\, 87 min.\, Origin
 alfassung (Pulaar) mit englischen Untertiteln\nBanel &amp\; Adama ist das 
 beeindruckende Spielfilmdebüt der französisch-senegalesischen Regisseuri
 n Ramata-Toulaye Sy. Der Film erzählt die leidenschaftliche Liebesgeschic
 hte von Banel und Adama\, einem jungen Paar\, das in einem abgelegenen Dor
 f im Norden Senegals lebt.\nIhre tiefe Zuneigung zueinander steht im Wider
 spruch zu den traditionellen Erwartungen ihrer Gemeinschaft. Als Adama sei
 ne vorgesehene Rolle als Dorfoberhaupt ablehnt und Banel sich weigert\, de
 n konventionellen Pflichten einer Frau nachzukommen\, geraten sie in Konfl
 ikt mit ihrer Umgebung. Die daraus resultierenden Spannungen führen zu un
 erwarteten und dramatischen Konsequenzen.\nDer Film zeichnet ein eindrucks
 volles Bild von Liebe\, Rebellion und den Herausforderungen\, die mit dem 
 Bruch gesellschaftlicher Normen einhergehen. Banel &amp\; Adama ist ein vi
 suell beeindruckendes Drama\, das die Grenzen zwischen Tradition und Moder
 ne auslotet und die universelle Kraft der Liebe in den Mittelpunkt stellt.
 \nRegisseurin Ramata-Toulaye Sy wurde 1986 in Paris als Tochter senegalesi
 scher Eltern geboren. Nach ihrem Abschluss an der renommierten Filmhochsch
 ule La Fémis im Jahr 2015 arbeitete sie zunächst als Drehbuchautorin. Ba
 nel &amp\; Adama ist ihr erster Langspielfilm\, der 2023 beim Filmfestival
  von Cannes in den Wettbewerb um die Goldene Palme aufgenommen wurde.\nReg
 ie und Drehbuch: Ramata-Toulaye Sy\nKamera: Amine Berrada\nSchnitt: Vincen
 t Tricon\nMusik: Bachar Mar-Khalifé\nKostümdesign: Mariam Diop\nHauptdar
 steller*innen: Khady Mane (Banel)\, Mamadou Diallo (Adama)\, Binta Racine 
 Sy (Adamas Mutter)\, Mouse Sow (Racine\, Banels Zwillingsbruder)\, Ndiabel
  Diallo (Coudy)
ATTACH;FMTTYPE=image/jpeg:https://antirassismustage.at/wp-content/uploads/
 2025/03/afrika-filmtage-2025.png
CATEGORIES:Filmvorführung
LOCATION:DAS KINO\, Giselakai 11\, Salzburg\, Salzburg\, 5020\, Österreich
GEO:47.801237;13.045763
X-APPLE-STRUCTURED-LOCATION;VALUE=URI;X-ADDRESS=Giselakai 11\, Salzburg\, S
 alzburg\, 5020\, Österreich;X-APPLE-RADIUS=100;X-TITLE=DAS KINO:geo:47.80
 1237,13.045763
END:VEVENT
END:VCALENDAR