BEGIN:VCALENDAR
VERSION:2.0
PRODID:-//wp-events-plugin.com//7.2.3.1//EN
TZID:Europe/Vienna
X-WR-TIMEZONE:Europe/Vienna
BEGIN:VEVENT
UID:254@antirassismustage.at
DTSTART:20260603T080000Z
DTEND:20260603T091500Z
DTSTAMP:20260420T173927Z
URL:https://antirassismustage.at/events/sahel-trifft-taklamakan/
SUMMARY:Sahel trifft Taklamakan - Eine musikalische Lesung ins Reich der Mi
 tte. Von 4 bis 8 Jahren
DESCRIPTION:Komm mit auf eine zauberhafte Reise in die chinesische Kultur! 
 In sechs liebevoll erzählten Geschichten zeigt der große Pandabär seine
 n tierischen Freunden\, was das Leben in China so besonders macht.\nWenn d
 er Igel mit seinen Stacheln das Chi des Pandabären wieder zum Fließen br
 ingt\, das Eichhörnchen mit seinem Schwanz GLÜCK kalligrafiert\, der Dac
 hs die Ruhe einer Teezeremonie kennenlernt oder der Hase erkennt\, dass ei
 n Papierdrache Sorgen davontragen kann - stets vermittelt der weise Bär s
 pielerisch Wissen über fernöstliche Traditionen.\nDie zweisprachigen Ges
 chichten (Deutsch/Chinesisch) öffnen Kinderherzen für andere Kulturen un
 d laden mit ihren interaktiven Elementen zum Mitmachen ein:&nbsp\;So lerne
 n die Kinder etwa\, wie man sich auf Chinesisch begrüßt\, wie man bis ze
 hn zählt und wie man Essstäbchen benutzt. Auch musikalische Elemente kom
 men nicht zu kurz!\nDie wunderbaren pentatonischen Klänge der afrikanisch
 en Harfe Ngoni untermalen die Texte und bereichern die interkulturelle Erf
 ahrung um eine zusätzliche Dimension.\nFür neugierige Kinder ab 4 Jahren
 \, die auf unterhaltsame Weise ihren Horizont erweitern und die Faszinatio
 n chinesischer Traditionen entdecken möchten.\nNora Frisch&nbsp\;- Lesung
 \,&nbsp\;Adama Dicko&nbsp\;- N’Goni
ATTACH;FMTTYPE=image/jpeg:https://antirassismustage.at/wp-content/uploads/
 2026/04/Scannen.jpeg
CATEGORIES:Workshop
LOCATION:Sargfabrik\, Goldschlagstrasse 169\, Wien\, 1140\, Österreich
X-APPLE-STRUCTURED-LOCATION;VALUE=URI;X-ADDRESS=Goldschlagstrasse 169\, Wie
 n\, 1140\, Österreich;X-APPLE-RADIUS=100;X-TITLE=Sargfabrik:geo:0,0
END:VEVENT
END:VCALENDAR