BEGIN:VCALENDAR
VERSION:2.0
PRODID:-//wp-events-plugin.com//7.2.3.1//EN
TZID:Europe/Vienna
X-WR-TIMEZONE:Europe/Vienna
BEGIN:VEVENT
UID:159@antirassismustage.at
DTSTART:20260428T150000Z
DTEND:20260428T180000Z
DTSTAMP:20260227T122338Z
URL:https://antirassismustage.at/events/rassismus-verlernen/
SUMMARY:Rassismus Verlernen
DESCRIPTION:\nIn unserem Workshop „Rassismus verlernen“ wollen wir uns 
 gemeinsam mit unseren rassistischen Prägungen auseinandersetzen.\nDer Wor
 kshop richtet sich an alle Interessierten\, insbesondere an weiß gelesene
  Personen\, die ihre eigene Involviertheit erkennen und verstehen möchten
 . Auch von Rassismus betroffene Personen sind ausdrücklich willkommen!\nW
 ir möchten einen Raum schaffen\, in dem alle Perspektiven\, Ängste\, Gef
 ühle und Sorgen Platz haben. Für Betroffene von Rassismus bieten wir die
  Möglichkeit\, ihre Erfahrungen zu teilen und ernst genommen zu werden. D
 er Austausch und das gegenseitige Empowerment stehen im Mittelpunkt unsere
 s Workshops.\nGemeinsam werden wir:\n\n	Definition &amp\; Entstehung von R
 assismus erarbeiten.\n	Auswirkungen von Rassismus auf die heutige Gesellsc
 haft.\n	Reflexion der eigenen Involviertheit in rassistische Strukturen.\n
 	Unsere eigenen Privilegien erkennen und deren Auswirkungen verstehen lern
 en.\n	Strategien entwickeln\, um aktiv zu werden und eine solidarische Hal
 tung einzunehmen.\n\nDer Workshop bietet eine wertvolle Gelegenheit\, neue
  Perspektiven zu gewinnen und sich aktiv für eine gerechtere Gesellschaft
  einzusetzen. Lasst uns gemeinsam den ersten Schritt in Richtung Veränder
 ung gehen!\n\n\nErwünschte Anzahl der Teilnehmer:innen:\n6 bis 10\n\n\nVe
 rpflegung:\nja\n\n\nSonstiges Wissenswertes:\nEs sind drei Treppen nach un
 ten in unser Büro zu überwinden und wir unterstützen gerne!. Daran soll
  eine Teilnahme nicht scheitern.\n&nbsp\;\nANMELDUNG\n&nbsp\;\n
ATTACH;FMTTYPE=image/jpeg:https://antirassismustage.at/wp-content/uploads/
 2026/02/Taschen-768x1024-1.jpeg
CATEGORIES:Workshop
LOCATION:Plattform Asyl für MENSCHEN RECHTE\, Mentlgasse 12\, Innsbruck\, 
 Tirol\, 6020\, Österreich
GEO:47.25987;11.398309
X-APPLE-STRUCTURED-LOCATION;VALUE=URI;X-ADDRESS=Mentlgasse 12\, Innsbruck\,
  Tirol\, 6020\, Österreich;X-APPLE-RADIUS=100;X-TITLE=Plattform Asyl für
  MENSCHEN RECHTE:geo:47.25987,11.398309
END:VEVENT
END:VCALENDAR