BEGIN:VCALENDAR
VERSION:2.0
PRODID:-//wp-events-plugin.com//7.2.3.1//EN
TZID:Europe/Vienna
X-WR-TIMEZONE:Europe/Vienna
BEGIN:VEVENT
UID:227@antirassismustage.at
DTSTART:20260927T090000Z
DTEND:20260927T110000Z
DTSTAMP:20260331T075721Z
URL:https://antirassismustage.at/events/lebenslauf-charity-lauf-asylkoordi
 nation/
SUMMARY:Lebenslauf  - Charity-Lauf für eine offene Asylpolitik
DESCRIPTION:der 9. LebensLauf findet am 27. September 2026 statt\n&nbsp\;\n
 5 km Hauptlauf\, 5 km Nordic Walking\, 1 km Kinderlauf – der LebensLauf 
 bietet Bewerbe für unterschiedliche Altersgruppen und Leistungsniveaus. \
 nIm Hauptlauf (5 km) erfolgt die Wertung in Altersklassen in 10-Jahres-Sch
 ritten (Erwachsene)\, jeweils für männlich\, weiblich und non-binary. Au
 ch beim Nordic Walking und Kinderlauf stehen passende Kategorien für die 
 jeweiligen Altersgruppen zur Verfügung.\nMehr Infos und Anmeldung auf Asy
 l.at&nbsp\;
ATTACH;FMTTYPE=image/jpeg:https://antirassismustage.at/wp-content/uploads/
 2026/03/lebenslauf-website-banner-2.jpg
CATEGORIES:Charity
LOCATION:Kurpark Oberlaa\, Laaer-Berg-Straße\, Wien\, 1100\, Österreich
GEO:48.154555;16.392358
X-APPLE-STRUCTURED-LOCATION;VALUE=URI;X-ADDRESS=Laaer-Berg-Straße\, Wien\,
  1100\, Österreich;X-APPLE-RADIUS=100;X-TITLE=Kurpark Oberlaa:geo:48.1545
 55,16.392358
END:VEVENT
END:VCALENDAR