BEGIN:VCALENDAR
VERSION:2.0
PRODID:-//wp-events-plugin.com//7.2.3.1//EN
TZID:Europe/Vienna
X-WR-TIMEZONE:Europe/Vienna
BEGIN:VEVENT
UID:226@antirassismustage.at
DTSTART:20260413T170000Z
DTEND:20260413T183000Z
DTSTAMP:20260412T101521Z
URL:https://antirassismustage.at/events/integration-im-klassenzimmer/
SUMMARY:Redebedarf: Integration im Klassenzimmer
DESCRIPTION:\n\n\n\n\n\n\n\nin Zusammenarbeit mit der Bezirksvorstehung Fav
 oriten.\n\n\n\n\n\n\n\n\n\n\n\n\n\n\n\n\nin Zusammenarbeit mit der Bezirks
 vorstehung Favoriten\nZu diesem offenen Diskussionsabend laden wir alle ei
 n\, die Gedanken zum Thema haben und ihre Meinung – egal in welche Richt
 ung – besprechen möchten.\n\nMit dabei: Katharina Stemberger\, Marcus F
 ranz\, Bernhard Fellinger\, Derviş Hızarcı\, Judith Kohlenberger\, Ilka
 y Idiskut und Tamara Llapaj-Lietz.\nNach einem Einführungsvortrag und ein
 er Podiumsdiskussion moderieren wir einen Austausch aller Teilnehmerinnen 
 und Teilnehmer.\n\n\nBitte melden Sie sich zeitnah hier an: stanzi.froh@co
 urage2030.eu&nbsp\;\n\n\n\n\n\n\n\n
ATTACH;FMTTYPE=image/jpeg:https://antirassismustage.at/wp-content/uploads/
 2026/03/Redebedarf.png
LOCATION:Bezirksvorstehung Favoriten\, Keplerplatz 5/1\, Wien\, Wien\, 1100
 \, Österreich
GEO:48.178433;16.374768
X-APPLE-STRUCTURED-LOCATION;VALUE=URI;X-ADDRESS=Keplerplatz 5/1\, Wien\, Wi
 en\, 1100\, Österreich;X-APPLE-RADIUS=100;X-TITLE=Bezirksvorstehung Favor
 iten:geo:48.178433,16.374768
END:VEVENT
END:VCALENDAR