BEGIN:VCALENDAR
VERSION:2.0
PRODID:-//wp-events-plugin.com//7.2.3.1//EN
TZID:Europe/Vienna
X-WR-TIMEZONE:Europe/Vienna
BEGIN:VEVENT
UID:194@antirassismustage.at
DTSTART:20260325T173000Z
DTEND:20260325T190000Z
DTSTAMP:20260312T123421Z
URL:https://antirassismustage.at/events/haltung-statt-festung-tour-abschlu
 ssevent-sos-balkanroute/
SUMMARY:Haltung statt Festung - Tour-Abschlussevent SOS Balkanroute
DESCRIPTION:Unter dem Titel „Die autoritäre Wende und ihre Folgen: Wo st
 ehen wir?“ sprechen Judith Kohlenberger (WU Wien)\, Lukas Gahleitner-Ger
 tz (asylkoordination) und Petar Rosandić (SOS Balkanroute).\nJudith Kohle
 nberger analysiert die aktuelle Lage und zeigt\, wie angstgetriebene Polit
 ik demokratische Strukturen unter Druck setzt. Lukas Gahleitner-Gertz demo
 ntiert Fake News und legt gängige Manipulationen in der Migrationsdebatte
  offen. Petar Rosandić spricht über den rechtsfreien Raum entlang der Ba
 lkanroute und berichtet aus erster Hand.\n\n	EINTRITT FREI\n
ATTACH;FMTTYPE=image/jpeg:https://antirassismustage.at/wp-content/uploads/
 2026/03/WhatsApp-Image-2026-03-12-at-14.18.25.jpeg
CATEGORIES:Gemischte Aktivitäten
LOCATION:Technische Universität Wien - Freihaus Hörsaal 1\,  Wiedner Haup
 tstraße 8–10\, Wien\, Wien\, 1040\, Österreich
GEO:48.198694;16.367572
X-APPLE-STRUCTURED-LOCATION;VALUE=URI;X-ADDRESS= Wiedner Hauptstraße 8–1
 0\, Wien\, Wien\, 1040\, Österreich;X-APPLE-RADIUS=100;X-TITLE=Technische
  Universität Wien - Freihaus Hörsaal 1:geo:48.198694,16.367572
END:VEVENT
END:VCALENDAR