BEGIN:VCALENDAR
VERSION:2.0
PRODID:-//wp-events-plugin.com//7.2.3.1//EN
TZID:Europe/Vienna
X-WR-TIMEZONE:Europe/Vienna
BEGIN:VEVENT
UID:99@antirassismustage.at
DTSTART:20250825T080000Z
DTEND:20250827T160000Z
DTSTAMP:20250315T122351Z
URL:https://antirassismustage.at/events/gender-und-diversity-lehrgang-nach
 -ams-kriterien-24-ue-februar-bis-dezember-2025-2/
SUMMARY:Wien: Gender- und Diversity Lehrgang nach AMS Kriterien\, 24 UE - M
 enschenrechte
DESCRIPTION:Gender- und Diversity Lehrgang nach AMS Kriterien mit diversen 
 Schwerpunkten: interkulturelle Kompetenz\, Medienkompetenz\, Antirassismus
 &amp\;Critical Whiteness\, Menschenrechte\, Gendervielfalt\nSCHWERPUNKTTHE
 MA: Menschenrechte&nbsp\;\nMit Eva Riess\, MA\n&amp\;\nMag. Jerry Essandoh
 \nDer Kurzlehrgang richtet sich an Personen\, die ein persönliches Intere
 sse an Fragen zu kultureller und sozialer Vielfalt\, Antidiskriminierung u
 nd Chancengleichheit haben und/oder für ihre berufliche Tätigkeit ein ak
 tuelles Zertifikat für Gender und Diversity nach AMS-Kriterien benötigen
 . Unsere Gender under Diversity Trainings haben unterschiedliche Schwerpun
 kte: Medienkompetenz\, inkterkulturelle Komptenz\, Menschenrechte\, Antira
 ssimus&amp\;cristical whiteness und Gendervielfalt. Die jeweiligen Schwerp
 unkte finden Sie neben den Terminen.\nNeben der Vermittlung von sozialwiss
 enschaftlichen und kulturtheoretischen Grundlagen sowie aktuellen rechtlic
 hen Standards steht vor allem die Reflexion der eigenen Kulturverhaftung u
 nd Werteorientierung im Vordergrund. Ein weiterer Aspekt ist das Erlernen 
 von Techniken und Methoden zur Gestaltung und Weiterentwicklung eigener so
 zial- und berufspädagogischer Bildungsprogramme.\n\n\nRuf Sie an oder sch
 reiben sie einfach eine E-Mail\, wenn Sie weitere Fragen haben:\n\n	E-Mail
 : office@integrationswerkstatt.at\n	Telefon:&nbsp\; +43 677 619 880 20\n	M
 ehr Infos: https://integrationswerkstatt.at/gender-und-diversity-zertifika
 t-nach-ams-kriterien/&nbsp\;\n\n\n
ATTACH;FMTTYPE=image/jpeg:https://antirassismustage.at/wp-content/uploads/
 2025/02/logo_integrationswerkstatt.png.webp
LOCATION:Kursort - Integrationswerkstatt\, Kollmayergasse 14\, Wien\, Wien\
 , 1120\, Österreich
GEO:48.185938;16.341775
X-APPLE-STRUCTURED-LOCATION;VALUE=URI;X-ADDRESS=Kollmayergasse 14\, Wien\, 
 Wien\, 1120\, Österreich;X-APPLE-RADIUS=100;X-TITLE=Kursort - Integration
 swerkstatt:geo:48.185938,16.341775
END:VEVENT
END:VCALENDAR