BEGIN:VCALENDAR
VERSION:2.0
PRODID:-//wp-events-plugin.com//7.2.3.1//EN
TZID:Europe/Vienna
X-WR-TIMEZONE:Europe/Vienna
BEGIN:VEVENT
UID:38@antirassismustage.at
DTSTART:20250320T170000Z
DTEND:20250320T183000Z
DTSTAMP:20250227T190455Z
URL:https://antirassismustage.at/events/fokusfuehrung-antisemitismus-und-r
 assismus/
SUMMARY:Wien: Fokusführung - Antisemitismus und Rassismus
DESCRIPTION:Anhand ausgewählter Objekte der Hauptausstellung geht diese Fo
 kusführung auf die Geschichte und Gegenwart von Antisemitismus und Rassis
 mus in Österreich ein. Wie hat sich gruppenbezogene Menschenfeindlichkeit
  im Laufe der Zeit verändert? Worin ähneln und unterscheiden sich die be
 iden Formen von Diskriminierung? Und wie drücken sie sich heute aus?\n\nD
 auer: ca. 60–90 Minuten\n\nFührungspauschale: € 4\,50 / ermäßigt 
 € 3\,50 pro Person zzgl. Eintritt\nBegrenzte TeilnehmerInnenzahl. Sie er
 halten Tickets an der Museumskassa.\n\n 	Weitere Informationen zu Öffnung
 szeiten und Preisen finden Sie&nbsp\;hier.\n 	Alle Fokus- und KuratorInnen
 führungen finden Sie&nbsp\;hier.\n\nMehr Infos:  https://hdgoe.at/fokusfu
 ehrung_antisemitismus-und-rassismus_2025?date=2025-03-20&nbsp\;
ATTACH;FMTTYPE=image/jpeg:https://antirassismustage.at/wp-content/uploads/
 2024/02/hdgoe_logo_Schrift_gesamt-rot_TJ.jpg
CATEGORIES:Führung
LOCATION:Haus der Geschichte Österreich\, Neue Hofburg\, Heldenplatz\, 101
 0\, Wien\, Wien\, Österreich
GEO:48.205479;16.364843
X-APPLE-STRUCTURED-LOCATION;VALUE=URI;X-ADDRESS=Neue Hofburg\, Heldenplatz\
 , 1010\, Wien\, Wien\, Österreich;X-APPLE-RADIUS=100;X-TITLE=Haus der Ges
 chichte Österreich:geo:48.205479,16.364843
END:VEVENT
END:VCALENDAR