BEGIN:VCALENDAR
VERSION:2.0
PRODID:-//wp-events-plugin.com//7.2.3.1//EN
TZID:Europe/Vienna
X-WR-TIMEZONE:Europe/Vienna
BEGIN:VEVENT
UID:184@antirassismustage.at
DTSTART:20260323T090000Z
DTEND:20260323T100000Z
DTSTAMP:20260311T085906Z
URL:https://antirassismustage.at/events/fahrradkurs-fuer-frauen/
SUMMARY:Fahrradkurs für Frauen
DESCRIPTION:Am 23. März 2026&nbsp\;startet der neue Fahrradkurs für Fraue
 n. In den 5 Einheiten werden neben Anfahren und Fahrradfahren auch das sic
 here Bremsen\, Kurven fahren und die wichtigsten Verkehrsregeln gelernt. E
 ine Anmeldung ist bereits möglich. Anmeldung und Informationen unter flas
 ​(at)​dornbirn.at
ATTACH;FMTTYPE=image/jpeg:https://antirassismustage.at/wp-content/uploads/
 2026/03/csm_20251020_Fahrradkurs_fuer_Frauen__1__6c9cf8b307.jpg
CATEGORIES:In Bewegung
LOCATION:Amt der Stadt Dornbirn - Gesundheit und Sozialplanung\, Rathauspla
 tz 2\, Dornbirn\, Vorarlberg\, 6850\, Österreich
GEO:47.412869;9.744655
X-APPLE-STRUCTURED-LOCATION;VALUE=URI;X-ADDRESS=Rathausplatz 2\, Dornbirn\,
  Vorarlberg\, 6850\, Österreich;X-APPLE-RADIUS=100;X-TITLE=Amt der Stadt 
 Dornbirn - Gesundheit und Sozialplanung:geo:47.412869,9.744655
END:VEVENT
END:VCALENDAR