BEGIN:VCALENDAR
VERSION:2.0
PRODID:-//wp-events-plugin.com//7.2.3.1//EN
TZID:Europe/Vienna
X-WR-TIMEZONE:Europe/Vienna
BEGIN:VEVENT
UID:160@antirassismustage.at
DTSTART:20260408T080000Z
DTEND:20260408T100000Z
DTSTAMP:20260227T140332Z
URL:https://antirassismustage.at/events/die-meinungsfreiheit-im-politische
 n-diskurs-alter-12-19/
SUMMARY:Die Meinungsfreiheit im politischen Diskurs (Alter: 12 - 19)
DESCRIPTION:Was darf man sagen – und wo sind Grenzen?\n\nIn diesem Worksh
 op geht es um Meinungsfreiheit\, politische Debatten und den respektvollen
  Umgang mit unterschiedlichen Ansichten. Du lernst\, deine Meinung klar zu
  vertreten\, andere Perspektiven zu verstehen und fair zu diskutieren – 
 auch wenn es kontrovers wird.&nbsp\;\nLeitung: ARGE Jugend gegen Gewalt un
 d Rassismus - Als Fachstelle für Gewaltprävention\, Konfliktlösung und 
 Menschenrechtsbildung bieten wir seit 1999 in der gesamten Steiermark Bera
 tungen\, Workshops\, Fallbegleitungen und Schulungen an. Unser Team setzt 
 sich dabei für die Prävention von Mobbing\, Gewalt und Extremismus ein. 
 Zudem engagieren wir uns in der Demokratiebildung\, um ein friedliches Zus
 ammenleben in der Steiermark zu ermöglichen.\n
ATTACH;FMTTYPE=image/jpeg:https://antirassismustage.at/wp-content/uploads/
 2026/02/Graz-Bibliothek.jpg
CATEGORIES:Workshop
LOCATION:Stadtbibliotek Graz\, Theodor-Körner-Straße 59 \, Graz\, Steierm
 ark\, 8010\, Österreich
GEO:47.083379;15.431511
X-APPLE-STRUCTURED-LOCATION;VALUE=URI;X-ADDRESS=Theodor-Körner-Straße 59 
 \, Graz\, Steiermark\, 8010\, Österreich;X-APPLE-RADIUS=100;X-TITLE=Stadt
 bibliotek Graz:geo:47.083379,15.431511
END:VEVENT
END:VCALENDAR