BEGIN:VCALENDAR
VERSION:2.0
PRODID:-//wp-events-plugin.com//7.2.3.1//EN
TZID:Europe/Vienna
X-WR-TIMEZONE:Europe/Vienna
BEGIN:VEVENT
UID:173@antirassismustage.at
DTSTART:20210312T170000Z
DTEND:20210312T190000Z
DTSTAMP:20260304T105742Z
URL:https://antirassismustage.at/events/breaking-silence-graz-the-anti-rac
 ism-challenge/
SUMMARY:BREAKING SILENCE GRAZ: The Anti-Racism Challenge
DESCRIPTION:Being anti-racist is more than just saying “I’m not racist
 ”. Being anti-racist means breaking the silence and having uncomfortable
  discussions. It requires you to be active\, to reflect on your own mindse
 t and behavior\, and to make other people aware of their biases and mistak
 es too.\nBREAKING SILENCE is a 14-day anti-racism challenge that will disc
 uss the topics of racism\, white privilege\, white supremacy\, white fragi
 lity and what true “allyship” looks like. The challenge starts with a 
 virtual kick-off event on March 12\, 2021 (6 - 8 pm) hosted on ZOOM with f
 our different speakers offering insights into their work in the field of a
 nti-racism and activism:\n• Precious Nnebedum\, BScN (Writer\, Performer
  &amp\; Activist)\n• Mag.a Pauline Riesel-Soumaré (Antidiskriminierungs
 stelle Steiermark)\n• Mag.a Fabienne Schantl (Teacher\, MS Strallegg)\n
 • Camila Schmid\, BSc (Founder of Re-Define Racism and Initiator of the 
 petition to rename the "M.- Gassen“ in Vienna’s second municipal distr
 ict)\nSign-up for the kick-off event\nSign-up for the event on the Faceboo
 k event page (https://fb.me/e/BCSVp0fZ). The link for the kick-off event w
 ill be published on March 12 on the Facebook event page.\nYou can also sig
 n up for the event by sending an email to breaking.silence.graz@gmail.com.
  Then we will send you the link via e-mail.\nJoin the social media challen
 ge\nTo participate in the 14-day Social Media Challenge follow us on Insta
 gram @breakingsilencegraz.\nAlternatively you can follow the updates on th
 e Facebook page\n(https://www.facebook.com/breakingsilencegraz) or visit t
 he blog every day for new challenges\n(https://breaking-silence-graz.mediu
 m.com/)\n-\nBREAKING SILENCE GRAZ\nbreaking.silence.graz@gmail.com\nInstag
 ram: @breakingsilencegraz
CATEGORIES:Anti-Rassismus Challenge
END:VEVENT
END:VCALENDAR