BEGIN:VCALENDAR
VERSION:2.0
PRODID:-//wp-events-plugin.com//7.2.3.1//EN
TZID:Europe/Vienna
X-WR-TIMEZONE:Europe/Vienna
BEGIN:VEVENT
UID:164@antirassismustage.at
DTSTART:20260421T230000Z
DTEND:20260425T230000Z
DTSTAMP:20260301T132244Z
URL:https://antirassismustage.at/events/bosnien-eu-aussengrenzen-verstehen
 -bildungsreise/
SUMMARY:Bildungsreise nach Bosnien: EU-Außengrenzen verstehen
DESCRIPTION:Gemeinsam mit der SOS-Balkanroute reisen wir nach Bosnien-Herze
 gowina\, um die Grenzrealität in Europa zu verstehen. In Biha besuchen wi
 r das Camp Lipa\, begleiten Versorgungsaktionen und sprechen mit Helfer:in
 nen über die Situation von Geflüchteten. In Sarajevo erwarten dich Besuc
 he in Museen\, Einblicke in die jüngere Geschichte des Landes und ein Aus
 tausch mit der bosnischen Gewerkschaft.\nDie Reise zeigt\, wie europäisch
 e Politik\, Menschenrechte und Solidarität zusammenhängen – und warum 
 Engagement an Grenzen nicht endet. Es ist eine Möglichkeit\, Hintergründ
 e zu verstehen\, persönliche Eindrücke zu sammeln und über internationa
 le Verantwortung zu sprechen.\n\n&nbsp\;\n\nWas dich erwartet:\n·&nbsp\;&
 nbsp\;&nbsp\;&nbsp\;&nbsp\;&nbsp\; Teilnahme an Hilfs- und Versorgungsakti
 onen der SOS-Balkanroute\n·&nbsp\;&nbsp\;&nbsp\;&nbsp\;&nbsp\;&nbsp\; Bes
 uch des Museums der Belagerung der Stadt Sarajevo\n·&nbsp\;&nbsp\;&nbsp\;
 &nbsp\;&nbsp\;&nbsp\; Besuch des Museums der Kriegskindheiten\n·&nbsp\;&n
 bsp\;&nbsp\;&nbsp\;&nbsp\;&nbsp\; Gespräche mit Helfer:innen\, Aktivist:i
 nnen und Organisationen vor Ort Austausch mit Vertreter:innen der bosnisch
 en Gewerkschaft\nTERMIN: 22. -26. April 2026\nORT: Biha &amp\; Sarajevo\, 
 Bosnien-Herzegowina\nKOSTEN: Reise- und Übernachtungskosten werden von de
 r österreichischen Gewerkschaftsjugend übernommen.\nZIELGRUPPE: Mitglied
 er der Gewerkschaftsjugend\nANMELDUNG: https://formular.oegj/bildungsreise
 -bosnien&nbsp\;&nbsp\;\nANMELDESTART: 02. Februar 2026\nANMELDESCHLUSS: 03
 . April 2026\nFragen? - jugend@oegb.at&nbsp\;&nbsp\;
ATTACH;FMTTYPE=image/jpeg:https://antirassismustage.at/wp-content/uploads/
 2026/03/Bildschirmfoto-2026-03-01-um-14.55.40.png
CATEGORIES:Bildungsreise
LOCATION:https://formular.oegj/bildungsreise-bosnien
END:VEVENT
END:VCALENDAR