BEGIN:VCALENDAR
VERSION:2.0
PRODID:-//wp-events-plugin.com//7.2.3.1//EN
TZID:Europe/Vienna
X-WR-TIMEZONE:Europe/Vienna
BEGIN:VEVENT
UID:177@antirassismustage.at
DTSTART:20260529T160000Z
DTEND:20260529T200000Z
DTSTAMP:20260304T122220Z
URL:https://antirassismustage.at/events/ball-der-vielfalt-2026-graz-tanzt-
 bunt-2/
SUMMARY:Ball der Vielfalt 2026 – Graz tanzt bunt!
DESCRIPTION:Vielfalt wird in Graz gelebt – beim&nbsp\;8. Ball der Vielfal
 t&nbsp\;feiern wir sie in all ihren Farben\, Klängen und Bewegungen! Mens
 chen mit und ohne Behinderung\, aus über 170 Nationen\, sind eingeladen\,
  gemeinsam einen unvergesslichen Abend zu erleben.\nModeriert wird der Abe
 nd von&nbsp\;Markus Zechner (Antenne Steiermark).\nKeine Anmeldung nötig.
  Eintritt ist Kostenlos\nTischreservierungen unter&nbsp\;office@spstmk.at 
 &nbsp\;\nPreis:&nbsp\;1. Sitzplatz: EUR 35\,00\, 1. Tisch mit 4 Plätzen: 
 EUR 130\,00\n- - -\nMore Information: https://www.spstmk.at/veranstaltungs
 kalender/ball-der-vielfalt-2026-graz-tanzt-bunt/&nbsp\;
ATTACH;FMTTYPE=image/jpeg:https://antirassismustage.at/wp-content/uploads/
 2026/03/vielfalt2024-1032-2048x1365-1.jpg
CATEGORIES:Ball
LOCATION:Kammersäle Graz\, Strauchergasse 32\, Graz\, Steiermark\, 8020\, 
 Österreich
GEO:47.071844;15.425407
X-APPLE-STRUCTURED-LOCATION;VALUE=URI;X-ADDRESS=Strauchergasse 32\, Graz\, 
 Steiermark\, 8020\, Österreich;X-APPLE-RADIUS=100;X-TITLE=Kammersäle Gra
 z:geo:47.071844,15.425407
END:VEVENT
END:VCALENDAR