BEGIN:VCALENDAR
VERSION:2.0
PRODID:-//wp-events-plugin.com//7.2.3.1//EN
TZID:Europe/Vienna
X-WR-TIMEZONE:Europe/Vienna
BEGIN:VEVENT
UID:169@antirassismustage.at
DTSTART:20260305T180000Z
DTEND:20260305T200000Z
DTSTAMP:20260301T183112Z
URL:https://antirassismustage.at/events/ausstellungseroeffnung-unfolding-h
 orizons-female-nigerian-artists-in-graz/
SUMMARY:Ausstellungseröffnung - "Unfolding Horizons – Female Nigerian Ar
 tists in Graz"
DESCRIPTION:Am&nbsp\;5. März 2026&nbsp\;wird in der QL-Galerie um 19:00 Uh
 r die Ausstellung "Unfolding Horizons – Female Nigerian Artists in Graz"
  von Pamela Cyril-Egware und Juliet Ezenwa Pearce mit musikalischer Beglei
 tung von Seydou Traoré eröffnet. Die Finissage findet am Sa. 25. April 2
 026 ab 17h im AAI Graz statt.&nbsp\;\n-\nUnfolding Horizons – Female Nig
 erian Artists&nbsp\;in Graz bringt die Arbeiten zweier zeitgenössischer K
 ünstlerinnen aus Nigeria erstmals nach Graz und eröffnet einen vielschic
 htigen Dialog zwischen Herkunft\, einer anderen Perspektive auf die Modern
 e und Gegenwart. Die Ausstellung bewegt sich in einem Spannungsfeld aus ha
 ndwerklichen Praktiken\, kulturellem Wissen und zeitgenössischen künstle
 rischen Strategien – zwischen Tradition und Transformation\, Erinnerung 
 und Zukunft\, sowie weiblicher Identität.\nNigeria bildet dabei nicht nur
  einen geografischen\, sondern vor allem einen kulturellen Resonanzraum. I
 n den gezeigten Werken wird Handwerk als Wissensspeicher sichtbar: über T
 extilien sowie der Arbeit mit Holzoberflächen entstehen Rhythmen und Must
 er\, die auf jahrhundertealte Techniken verweisen\, die von Generation zu 
 Generation weitergegeben wurden. Gleichzeitig werden diese Praktiken neu g
 elesen\, erweitert und in einen aktuellen\, gegenwärtigen Kontext überf
 ührt\, indem sie genutzt werden um das Hier und Jetzt zu beschreiben.\nPa
 mela Cyril-Egware&nbsp\;– eine der beteiligten Künstlerinnen – arbeit
 et ausgehend von Textil- und Färbetechniken des Niger-Deltas. Ihre Werke 
 verbinden Batik\, Resist-Techniken und zeichnerische Elemente mit zeitgen
 össischen Fragestellungen zu Gemeinschaft als weiblicher Erfahrungsraum. 
 Natürliche Formen\, insbesondere aquatische Motive\, werden zu Trägern k
 ultureller Erinnerung und zugleich zu offenen Bildern für Wandel und Bewe
 gung im wörtlichen Sinne\, wenn sie Verwendung auf Kleidung finden\, aber
  auch im übertragenen Sinne als Wandbild. In der Ausstellung werden sowoh
 l mehrere ihrer Wandbilder mit figurativen Darstellungen gezeigt wie auch 
 mehrere Stoffbahnen die zu einer räumlichen Installation zusammengefügt 
 werden.\nJuliet Ezenwa Pearce&nbsp\;arbeitet an der Schnittstelle von Skul
 ptur\, Maske und Grafik und verbindet künstlerische Praxis mit gesellscha
 ftlichem Engagement. In ihren aus umweltfreundlichem Holz gefertigten weib
 lichen Köpfen\, Masken und der Installation der Female Masquerade greift 
 sie bewusst auf formale Bezüge zu Nok-Skulpturen\, Igbo-Ukwu-Artefakten u
 nd Esie-Seifenstein zurück. Pearce hinterfragt die historische Ausgrenzun
 g von Frauen aus spirituellen\, rituellen und politischen Räumen und bric
 ht gezielt mit kulturellen Tabus\, indem sie Frauen als Trägerinnen von A
 utorität und Sichtbarkeit darstellt. Ihre Arbeiten verleihen jenen Stimme
 n Raum\, die lange marginalisiert wurden\, und formulieren ein kraftvolles
  Plädoyer für Teilhabe\, Gleichberechtigung und kulturelle Selbstbestimm
 ung.&nbsp\;\nSelma Etareri&nbsp\;ist die Kuratorin von&nbsp\;Unfolding Hor
 izons – Female Nigerian Artists in Graz. Ausgehend von ihrer eigenen kü
 nstlerischen und transkulturellen Praxis versteht sie Ausstellungsmachen a
 ls vermittelnden Raum zwischen Kontexten\, Generationen und Wissensformen.
  Mit diesem Projekt schafft sie eine Plattform für zeitgenössische niger
 ianische Künstlerinnen und eröffnet einen Dialog zwischen handwerklicher
  Tradition\, feministischer Perspektive und internationaler Gegenwartskuns
 t.\nUnfolding Horizons&nbsp\;versteht sich als Einladung\, diese Horizonte
  aufzufalten: als Prozess des Sehens\, Lernens und Neu-Verhandelns von Tra
 dition\, Moderne und Gegenwart.\nEine Ausstellung des Afro-Asiatischen Ins
 tituts Graz\, kuratiert von Selma Etareri.
ATTACH;FMTTYPE=image/jpeg:https://antirassismustage.at/wp-content/uploads/
 2026/03/unfolding-horizons_quadrat.jpg
CATEGORIES:Ausstellung
LOCATION:Afro-Asiatisches Institut Graz\, Leechgasse 24\, Graz\, Steiermark
 \, 8010\, Österreich
GEO:47.076434;15.453598
X-APPLE-STRUCTURED-LOCATION;VALUE=URI;X-ADDRESS=Leechgasse 24\, Graz\, Stei
 ermark\, 8010\, Österreich;X-APPLE-RADIUS=100;X-TITLE=Afro-Asiatisches In
 stitut Graz:geo:47.076434,15.453598
END:VEVENT
END:VCALENDAR