BEGIN:VCALENDAR
VERSION:2.0
PRODID:-//wp-events-plugin.com//7.2.3.1//EN
TZID:Europe/Vienna
X-WR-TIMEZONE:Europe/Vienna
BEGIN:VEVENT
UID:251@antirassismustage.at
DTSTART:20260413T170000Z
DTEND:20260413T190000Z
DTSTAMP:20260411T070626Z
URL:https://antirassismustage.at/events/ausstellung-ich-habe-meine-geschic
 hte-nicht-gewaehlt/
SUMMARY:Ausstellung: Ich habe meine Geschichte nicht gewählt
DESCRIPTION:Die Ausstellung porträtiert geflüchtete Menschen\, die 2024 i
 n Österreich leben\, Asyl beantragt haben und sich in einem Zustand des W
 artens auf eine behördliche Entscheidung befinden.\nSie stammen aus unter
 schiedlichen Ländern\, die von Krieg\, politischen Konflikten\, sozialen 
 Krisen und schweren Menschenrechtsverletzungen geprägt sind. In diesem Sc
 hwebezustand sind Alltag\, Zukunft und Identität von Unsicherheit gepräg
 t – und zugleich von dem Versuch\, Würde zu bewahren\, neue Perspektive
 n zu entwickeln und im Fremden Halt zu finden. Die porträtierten Personen
  kommen unter anderem aus Tadschikistan\, der Türkei\, Syrien\, Palästin
 a\, Afghanistan\, dem Iran. Die Künstlerin Helena Battlori verbindet in d
 iesem Projekt ihre langjährige Arbeit mit geflüchteten Menschen mit eine
 r sozialdokumentarischen Praxis. Die Fotografie dient Helena Batllori als 
 Mittel des Zuhörens und sie schafft Räume\, in denen Erfahrungen anerkan
 nt und geteilt werden können.\n\n	Ausstellungsdauer: 13.4 bis 30.4.2026\n
 	Künstlerin: Helena Batllori\, Sozialpsychologin und Fotografin\n	In Koop
 eration mit: Plattform für Menschenrechte\, Katholische Hochschulgemeinde
 \, Hiketides\, Talk Together\n
ATTACH;FMTTYPE=image/jpeg:https://antirassismustage.at/wp-content/uploads/
 2026/04/AAISalzburg.png
CATEGORIES:Ausstellung
LOCATION:Afro-Asiatisches Institut Salzburg\, Wiener-Philharmoniker-Gasse 2
 \, Salzburg\, Salzburg\, 5020\, Österreich
GEO:47.798755;13.042979
X-APPLE-STRUCTURED-LOCATION;VALUE=URI;X-ADDRESS=Wiener-Philharmoniker-Gasse
  2\, Salzburg\, Salzburg\, 5020\, Österreich;X-APPLE-RADIUS=100;X-TITLE=A
 fro-Asiatisches Institut Salzburg:geo:47.798755,13.042979
END:VEVENT
END:VCALENDAR