BEGIN:VCALENDAR
VERSION:2.0
PRODID:-//wp-events-plugin.com//7.2.3.1//EN
TZID:Europe/Vienna
X-WR-TIMEZONE:Europe/Vienna
BEGIN:VEVENT
UID:26@antirassismustage.at
DTSTART:20250305T160000Z
DTEND:20250305T190000Z
DTSTAMP:20250227T185533Z
URL:https://antirassismustage.at/events/argumentationstraining-ausgrenzung
 -und-rassismus/
SUMMARY:Traun: Argumentationstraining: Ausgrenzung und Rassismus
DESCRIPTION:Welche Möglichkeiten des zivilcouragierten Handelns habe ich\,
  wenn ich eine Situation miterlebe\, wo Menschen oder Gruppen beleidigt un
 d diskriminiert werden? Die Teilnehmenden erfahren in diesem Argumentation
 straining wichtige Sachinformationen zum Argumentieren und üben\, rhetori
 sche Mittel effektiv anzuwenden. Weiters findet eine Auseinandersetzung be
 züglich der Entstehungsweisen von Ausgrenzung und Rassismus und Fremdenfe
 indlichkeit statt.\n\n 	Ende der Registrierung: 26.02.2025 00:00\n 	Anmeld
 ung Link\n
ATTACH;FMTTYPE=image/jpeg:https://antirassismustage.at/wp-content/uploads/
 2025/02/WID_Logo_neu_neu42-800x337.png.webp
CATEGORIES:Training
LOCATION:Wohnen im Dialog Traun\, Kirchenplatz 2\, Traun\, Oberösterreich\
 , 4050\, Österreich
GEO:48.22049;14.239033
X-APPLE-STRUCTURED-LOCATION;VALUE=URI;X-ADDRESS=Kirchenplatz 2\, Traun\, Ob
 erösterreich\, 4050\, Österreich;X-APPLE-RADIUS=100;X-TITLE=Wohnen im Di
 alog Traun:geo:48.22049,14.239033
END:VEVENT
END:VCALENDAR